BEGIN:VCALENDAR
VERSION:2.0
PRODID:-//Centrul Cultural Lucian Blaga, Sebeș - ECPv6.3.3.1//NONSGML v1.0//EN
CALSCALE:GREGORIAN
METHOD:PUBLISH
X-ORIGINAL-URL:https://www.cclbsebes.ro
X-WR-CALDESC:Events for Centrul Cultural Lucian Blaga, Sebeș
REFRESH-INTERVAL;VALUE=DURATION:PT1H
X-Robots-Tag:noindex
X-PUBLISHED-TTL:PT1H
BEGIN:VTIMEZONE
TZID:Europe/Bucharest
BEGIN:DAYLIGHT
TZOFFSETFROM:+0200
TZOFFSETTO:+0300
TZNAME:EEST
DTSTART:20240331T010000
END:DAYLIGHT
BEGIN:STANDARD
TZOFFSETFROM:+0300
TZOFFSETTO:+0200
TZNAME:EET
DTSTART:20241027T010000
END:STANDARD
END:VTIMEZONE
BEGIN:VEVENT
DTSTART;TZID=Europe/Bucharest:20240123T120000
DTEND;TZID=Europe/Bucharest:20240123T133000
DTSTAMP:20260422T013707
CREATED:20240118T205549Z
LAST-MODIFIED:20240118T205549Z
UID:13427-1706011200-1706016600@www.cclbsebes.ro
SUMMARY:„Istorii spuse de obiecte. Despre Unirea de la 1859\, altfel”. Eveniment de pedagogie muzeală la Sebeş\, marți\, 23 ianuarie 2024
DESCRIPTION:„ISTORII SPUSE DE OBIECTE. DESPRE UNIREA DE LA 1859\, ALTFEL”. EVENIMENT DE PEDAGOGIE MUZEALĂ LA SEBEȘ\, MARȚI\, 23 IANUARIE 2024\n \nMarți\, 23 ianuarie 2024\, începând cu ora 12.00\, în sala de spectacole a Centrului Cultural „Lucian Blaga” Sebeș va avea loc un eveniment dedicat zilei de 24 Ianuarie 1859\, intitulat „Istorii spuse de obiecte. Despre Unirea de la 1859\, altfel”\, organizat de Centrul Cultural „Lucian Blaga” Sebeș\, prin Muzeul Municipal „Ioan Raica”\, în parteneriat cu Muzeul Național al Unirii Alba Iulia. \nActivitatea se adresează în special publicului tânăr și constă într-o prelegere interactivă susținută de dr. Ioana Ursu\, muzeograf la Muzeul Național al Unirii Alba Iulia. În debutul acesteia\, un joc de rol îi va ajuta pe participanți să înțeleagă interacțiunile de pe scena politică europeană a mijlocului de secol XIX și modul în care evoluțiile din cadrul relațiilor internaționale au condus la Unirea Principatelor. \nDupă înțelegerea contextului politic și a semnificației Unirii din 1859\, a doua parte a evenimentului va scoate în evidență importanța patrimoniului muzeal: vor fi spuse povești ale pieselor din colecțiile Muzeului Național al Unirii din Alba Iulia care se leagă de numele Elenei și al lui Alexandru Ioan Cuza\, prezentate sub forma unui dialog interactiv cu asistența: ce înseamnă memorie\, amintire și comemorare publică? Ce alegem și ce reușim să păstrăm din istorie și din amintirea protagoniștilor ei? \nPregătită ca un program de pedagogie muzeală\, activitatea va fi un bun prilej pentru elevii școlilor din Sebeș de a participa la o lecție de istorie altfel\, diferită de cea din sala de clasă\, în care să afle informații noi referitoare la drumul parcurs de Principatele Române până la Unirea din 1859\, despre modul în care aceasta s-a realizat și despre rolul muzeelor în păstrarea patrimoniului care ilustrează evenimentele importante din istorie sau viața unor personalități.
URL:https://www.cclbsebes.ro/eveniment/istorii-spuse-de-obiecte-despre-unirea-de-la-1859-altfel-eveniment-de-pedagogie-muzeala-la-sebes-marti-23-ianuarie-2024/
CATEGORIES:Aniversare,Conferință
ATTACH;FMTTYPE=image/jpeg:https://www.cclbsebes.ro/wp-content/uploads/2024/01/afis-24-ianuarie-final-redus-scaled.jpg
ORGANIZER;CN="Centrul Cultural %E2%80%9ELucian Blaga%E2%80%9D Sebe%C8%99":MAILTO:contact@cclbsebes.ro
END:VEVENT
END:VCALENDAR